BEGIN:VCALENDAR
VERSION:2.0
PRODID:-//Super Hero&#039;s Palace - ECPv6.15.20//NONSGML v1.0//EN
CALSCALE:GREGORIAN
METHOD:PUBLISH
X-WR-CALNAME:Super Hero&#039;s Palace
X-ORIGINAL-URL:https://superherospalace.org
X-WR-CALDESC:Events for Super Hero&#039;s Palace
REFRESH-INTERVAL;VALUE=DURATION:PT1H
X-Robots-Tag:noindex
X-PUBLISHED-TTL:PT1H
BEGIN:VTIMEZONE
TZID:America/New_York
BEGIN:DAYLIGHT
TZOFFSETFROM:-0500
TZOFFSETTO:-0400
TZNAME:EDT
DTSTART:20240310T070000
END:DAYLIGHT
BEGIN:STANDARD
TZOFFSETFROM:-0400
TZOFFSETTO:-0500
TZNAME:EST
DTSTART:20241103T060000
END:STANDARD
BEGIN:DAYLIGHT
TZOFFSETFROM:-0500
TZOFFSETTO:-0400
TZNAME:EDT
DTSTART:20250309T070000
END:DAYLIGHT
BEGIN:STANDARD
TZOFFSETFROM:-0400
TZOFFSETTO:-0500
TZNAME:EST
DTSTART:20251102T060000
END:STANDARD
BEGIN:DAYLIGHT
TZOFFSETFROM:-0500
TZOFFSETTO:-0400
TZNAME:EDT
DTSTART:20260308T070000
END:DAYLIGHT
BEGIN:STANDARD
TZOFFSETFROM:-0400
TZOFFSETTO:-0500
TZNAME:EST
DTSTART:20261101T060000
END:STANDARD
END:VTIMEZONE
BEGIN:VEVENT
DTSTART;TZID=America/New_York:20251018T130000
DTEND;TZID=America/New_York:20251018T170000
DTSTAMP:20260425T192812
CREATED:20260425T004922Z
LAST-MODIFIED:20260425T004922Z
UID:1911-1760792400-1760806800@superherospalace.org
SUMMARY:Harmony in the Park: A Community Music and Arts Festival
DESCRIPTION:
URL:https://superherospalace.org/event/harmony-in-the-park-a-community-music-and-arts-festival/
CATEGORIES:Community
END:VEVENT
END:VCALENDAR