BEGIN:VCALENDAR
VERSION:2.0
PRODID:-//Super Hero&#039;s Palace - ECPv6.15.20//NONSGML v1.0//EN
CALSCALE:GREGORIAN
METHOD:PUBLISH
X-WR-CALNAME:Super Hero&#039;s Palace
X-ORIGINAL-URL:https://superherospalace.org
X-WR-CALDESC:Events for Super Hero&#039;s Palace
REFRESH-INTERVAL;VALUE=DURATION:PT1H
X-Robots-Tag:noindex
X-PUBLISHED-TTL:PT1H
BEGIN:VTIMEZONE
TZID:America/New_York
BEGIN:DAYLIGHT
TZOFFSETFROM:-0500
TZOFFSETTO:-0400
TZNAME:EDT
DTSTART:20230312T070000
END:DAYLIGHT
BEGIN:STANDARD
TZOFFSETFROM:-0400
TZOFFSETTO:-0500
TZNAME:EST
DTSTART:20231105T060000
END:STANDARD
BEGIN:DAYLIGHT
TZOFFSETFROM:-0500
TZOFFSETTO:-0400
TZNAME:EDT
DTSTART:20240310T070000
END:DAYLIGHT
BEGIN:STANDARD
TZOFFSETFROM:-0400
TZOFFSETTO:-0500
TZNAME:EST
DTSTART:20241103T060000
END:STANDARD
BEGIN:DAYLIGHT
TZOFFSETFROM:-0500
TZOFFSETTO:-0400
TZNAME:EDT
DTSTART:20250309T070000
END:DAYLIGHT
BEGIN:STANDARD
TZOFFSETFROM:-0400
TZOFFSETTO:-0500
TZNAME:EST
DTSTART:20251102T060000
END:STANDARD
BEGIN:DAYLIGHT
TZOFFSETFROM:-0500
TZOFFSETTO:-0400
TZNAME:EDT
DTSTART:20260308T070000
END:DAYLIGHT
BEGIN:STANDARD
TZOFFSETFROM:-0400
TZOFFSETTO:-0500
TZNAME:EST
DTSTART:20261101T060000
END:STANDARD
END:VTIMEZONE
BEGIN:VEVENT
DTSTART;TZID=America/New_York:20250109T080000
DTEND;TZID=America/New_York:20250109T170000
DTSTAMP:20260426T001319
CREATED:20260425T005927Z
LAST-MODIFIED:20260425T005927Z
UID:1915-1736409600-1736442000@superherospalace.org
SUMMARY:Tech Together: Community-Led Technology Workshop
DESCRIPTION:Dive into the digital world with Tech Together\, a series of community-led technology workshops designed to empower residents with the skills needed for the modern age. Whether you’re looking to…
URL:https://superherospalace.org/event/tech-together-community-led-technology-workshop/
CATEGORIES:Community,Technology Event
END:VEVENT
BEGIN:VEVENT
DTSTART;TZID=America/New_York:20241228T140000
DTEND;TZID=America/New_York:20241228T170000
DTSTAMP:20260426T001319
CREATED:20260425T013210Z
LAST-MODIFIED:20260425T013210Z
UID:1917-1735394400-1735405200@superherospalace.org
SUMMARY:Green Thumb Gathering: Community Gardening Day
DESCRIPTION:
URL:https://superherospalace.org/event/green-thumb-gathering-community-gardening-day/
CATEGORIES:Community
ATTACH;FMTTYPE=image/jpeg:https://superherospalace.org/wp-content/uploads/2024/10/pexels-kindelmedia-7457020-e1777080713378.jpg
END:VEVENT
END:VCALENDAR